BEGIN:VCALENDAR
VERSION:2.0
PRODID:icalendar-ruby
CALSCALE:GREGORIAN
METHOD:PUBLISH
BEGIN:VEVENT
DTSTAMP:20260424T152533Z
UID:32-270878@standrewsamarillo.org
DTSTART:20260517T163000Z
DTEND:20260517T171500Z
CLASS:PUBLIC
CREATED:20260420T105552
DESCRIPTION:Looking to grow in faith and understanding? Join us for Adult F
 ormation Classes each Sunday morning in St. Catherine’s Room.\nCome be p
 art of thoughtful conversation\, learning\, and community as we explore to
 gether—we’d love to have you join us!
LAST-MODIFIED:20260420T105552
LOCATION:St. Catherine's Room
SUMMARY:Adult Formation
URL;VALUE=URI:https://standrewsamarillo.org/events/adult-formation/2026-05-
 17
ATTACH;FILENAME=St-Andrews-Event-Adult-Formation.png;FMTTYPE=image/png:http
 s://dq5pwpg1q8ru0.cloudfront.net/2026/04/20/17/55/52/5969c3ee-e43c-4842-83
 b1-68cb83da8c98/St-Andrews-Event-Adult-Formation.png
END:VEVENT
END:VCALENDAR
