BEGIN:VCALENDAR
VERSION:2.0
PRODID:icalendar-ruby
CALSCALE:GREGORIAN
METHOD:PUBLISH
BEGIN:VEVENT
DTSTAMP:20260422T020216Z
UID:31-270855@standrewsamarillo.org
DTSTART:20260621T154500Z
DTEND:20260621T163000Z
CLASS:PUBLIC
CREATED:20260420T105321
DESCRIPTION:Join us for breakfast in the Parish Hall at 8:30 AM!\nStart you
 r day with good food\, warm coffee\, and even better company. Whether you
 ’re a regular or visiting for the first time\, there’s a place for you
  at the table. Come gather\, connect\, and enjoy a relaxed morning togethe
 r—we’d love to see you there!
LAST-MODIFIED:20260420T105321
LOCATION:Parish Hall
SUMMARY:Breakfast
URL;VALUE=URI:https://standrewsamarillo.org/events/breakfast/2026-06-21
ATTACH;FILENAME=St-Andrews-Event-Breakfast.png;FMTTYPE=image/png:https://dq
 5pwpg1q8ru0.cloudfront.net/2026/04/20/17/52/56/73ba56ca-65cb-4d0d-afd6-550
 4e08aec9a/St-Andrews-Event-Breakfast.png
END:VEVENT
END:VCALENDAR
