BEGIN:VCALENDAR
VERSION:2.0
PRODID:icalendar-ruby
CALSCALE:GREGORIAN
METHOD:PUBLISH
BEGIN:VEVENT
DTSTAMP:20260425T142636Z
UID:27-270695@standrewsamarillo.org
DTSTART:20260513T163000Z
DTEND:20260513T190000Z
CLASS:PUBLIC
CREATED:20260420T102219
DESCRIPTION:Daughters of the King - Morning Group\n9:30 AM | St. Catherine'
 s Room\n\nAll women are warmly invited to join the Daughters of the King f
 or a meaningful time of prayer\, fellowship\, and encouragement. Whether y
 ou’re curious to learn more or already part of the Order\, come experien
 ce the beauty of community and devotion together. We’d love to have you 
 with us!
LAST-MODIFIED:20260420T102219
LOCATION:St. Catherine's Room
SUMMARY:Daughters of the king
URL;VALUE=URI:https://standrewsamarillo.org/events/daughters-of-the-king--2
 7/2026-05-13
ATTACH;FILENAME=St-Andrews-Event-Daughters-of-the-King---Morning.png;FMTTYP
 E=image/png:https://dq5pwpg1q8ru0.cloudfront.net/2026/04/20/17/22/18/26a2e
 b02-a180-4ddd-ac41-55a40a093b40/St-Andrews-Event-Daughters-of-the-King---M
 orning.png
END:VEVENT
END:VCALENDAR
