BEGIN:VCALENDAR
VERSION:2.0
PRODID:icalendar-ruby
CALSCALE:GREGORIAN
METHOD:PUBLISH
BEGIN:VEVENT
DTSTAMP:20260425T164909Z
UID:30-270791@standrewsamarillo.org
DTSTART:20260517T173000Z
DTEND:20260517T190000Z
CLASS:PUBLIC
CREATED:20260420T104448
DESCRIPTION:Join us in the Nave at 10:30 AM on Sundays.\n\nHOLY EUCHARIST R
 ITE II\nHoly Eucharist Rite II is a more contemporary expression of Anglic
 an worship\, using modern\, accessible language while maintaining the rich
 ness and structure of the liturgy. Through scripture\, prayer\, and the sh
 aring of bread and wine\, it offers a meaningful and inviting way to encou
 nter God in a service that feels both rooted in tradition and relevant to 
 today.\nCOMBINED CHILDREN'S FORMATION &amp\; CHAPEL\nChildren come to t
 he 10:30 a.m. service with their families. After the daily Collect (about 
 5 minutes into the service)\, they will be dismissed for Children’s Ch
 apel with Mr. Mark and a children’s formation teacher leading them in 
 a procession to Lowndes Hall. In Lowndes Hall\, the teachers will provide 
 a short lesson related to the Sunday Gospel reading\, some fun activities\
 , and some songs. Then the teachers will lead the children back to the N
 ave in time for the Children’s Blessing.
LAST-MODIFIED:20260420T104448
LOCATION:Nave
SUMMARY:Holy Eucharist Rite II + Children's Chapel
URL;VALUE=URI:https://standrewsamarillo.org/events/holy-eucharist-rite-ii-c
 hildrens-chapel--30/2026-05-17
ATTACH;FILENAME=St-Andrews-Event-Holy-Eucharist-Rite-II.png;FMTTYPE=image/p
 ng:https://dq5pwpg1q8ru0.cloudfront.net/2026/04/20/17/44/06/eb043b67-3b95-
 4819-892c-07042ada2e62/St-Andrews-Event-Holy-Eucharist-Rite-II.png
END:VEVENT
END:VCALENDAR
