BEGIN:VCALENDAR
VERSION:2.0
PRODID:icalendar-ruby
CALSCALE:GREGORIAN
METHOD:PUBLISH
BEGIN:VEVENT
DTSTAMP:20260421T120528Z
UID:19-270687@standrewsamarillo.org
DTSTART:20260424T233000Z
DTEND:20260425T020000Z
CLASS:PUBLIC
CREATED:20260420T092824
DESCRIPTION:HOLY HAPPY HOUR | APRIL 24 | 4:30 PM\nYou are invited to join u
 s every last Friday of the month! Old Tascosa Brewing hosts St. Andrews Ep
 iscopal Church for Happy Holy Hour. It's the perfect way to unwind and cel
 ebrate the end of the month with friends and fantastic brews while enjoyin
 g fellowship time together. This is a family-friendly event and there are 
 non-alcoholic drink options available. 3100 SW 6th Ave 
LAST-MODIFIED:20260420T092824
LOCATION:Old Tascosa Brewing\, 3100 SW 6th Ave 
SUMMARY:Holy Happy Hour
URL;VALUE=URI:https://standrewsamarillo.org/events/holy-happy-hour--19/2026
 -04-24
ATTACH;FILENAME=St-Andrews-Event-Holy-Happy-Hour-1.png;FMTTYPE=image/png:ht
 tps://dq5pwpg1q8ru0.cloudfront.net/2026/04/20/16/28/24/a1750f7a-cb3d-4d06-
 88e0-21dd6c36dba8/St-Andrews-Event-Holy-Happy-Hour-1.png
END:VEVENT
END:VCALENDAR
