BEGIN:VCALENDAR
VERSION:2.0
PRODID:icalendar-ruby
CALSCALE:GREGORIAN
METHOD:PUBLISH
BEGIN:VEVENT
DTSTAMP:20260421T121215Z
UID:18-270686@standrewsamarillo.org
DTSTART:20260503T010000Z
DTEND:20260503T030000Z
CLASS:PUBLIC
CREATED:20260420T072808
DESCRIPTION:LOW COUNTRY BOIL | MAY 2 | 6 PM\nYou’re invited! Join us as w
 e prepare to welcome the Bishop with a joyful evening together at our Low 
 Country Boil on Saturday\, May 2 at 6 PM in the Parish Hall.\nCome for the
  food\, stay for the fellowship—this is a wonderful chance to gather\, c
 onnect\, and celebrate as a parish community. A suggested donation of $12 
 per person helps cover the cost of the meal.\nWe’d love to see you there
 !
LAST-MODIFIED:20260420T072808
LOCATION:Parish Hall
SUMMARY:Low Country Boil
URL;VALUE=URI:https://standrewsamarillo.org/events/low-country-boil/2026-05
 -02
ATTACH;FILENAME=St-Andrews-Event-Low-Country-Boil-05.02.2026.png;FMTTYPE=im
 age/png:https://dq5pwpg1q8ru0.cloudfront.net/2026/04/20/14/25/51/f3fbddeb-
 b071-4f97-a50e-3997208d9796/St-Andrews-Event-Low-Country-Boil-05.02.2026.p
 ng
END:VEVENT
END:VCALENDAR
